BEGIN:VCALENDAR
VERSION:2.0
PRODID:-//Plone.org//NONSGML plone.app.event//EN
X-WR-TIMEZONE:Europe/Madrid
BEGIN:VEVENT
SUMMARY:Test event
DTSTART;TZID=Europe/Madrid:20090706T173500
DTEND;TZID=Europe/Madrid:20090906T173500
DTSTAMP:20260424T174933Z
UID:f3e624f4d6b77704d5018b46f95b792c@peter2pre.upc.edu:11003
CREATED:20090706T153200Z
DESCRIPTION:briefing
LAST-MODIFIED:20090724T141900Z
URL:https://wireless.upc.edu/en/events/test-event
END:VEVENT
BEGIN:VEVENT
SUMMARY:WNG seminar
DTSTART;TZID=Europe/Madrid:20100414T090000
DTEND;TZID=Europe/Madrid:20100414T110000
DTSTAMP:20260424T174933Z
UID:f7ac74f2ac68ac0113496f262226afd2@peter3.upc.edu:11001
CREATED:20100414T003800Z
DESCRIPTION:WNG seminar sessions
LAST-MODIFIED:20100414T004200Z
LOCATION:C3-CN
URL:https://wireless.upc.edu/en/events/wng-seminar
END:VEVENT
BEGIN:VTIMEZONE
TZID:Europe/Madrid
X-LIC-LOCATION:Europe/Madrid
BEGIN:DAYLIGHT
DTSTART:20090329T030000
TZNAME:CEST
TZOFFSETFROM:+0100
TZOFFSETTO:+0200
END:DAYLIGHT
BEGIN:DAYLIGHT
DTSTART:20100328T030000
TZNAME:CEST
TZOFFSETFROM:+0100
TZOFFSETTO:+0200
END:DAYLIGHT
END:VTIMEZONE
END:VCALENDAR
