BEGIN:VCALENDAR
VERSION:2.0
PRODID:-//Plone.org//NONSGML plone.app.event//EN
X-WR-TIMEZONE:Europe/Madrid
BEGIN:VEVENT
SUMMARY:Evento de prueba
DTSTART;TZID=Europe/Madrid:20090706T173500
DTEND;TZID=Europe/Madrid:20090906T173500
DTSTAMP:20260419T141741Z
UID:ce5ef906e2fefd8fc3a4e87f5277579c@peter2pre.upc.edu:11003
CREATED:20090706T153200Z
DESCRIPTION:Resumen
LAST-MODIFIED:20090724T141900Z
URL:https://wireless.upc.edu/es/eventos/evento-de-prueba
END:VEVENT
BEGIN:VTIMEZONE
TZID:Europe/Madrid
X-LIC-LOCATION:Europe/Madrid
BEGIN:DAYLIGHT
DTSTART:20090329T030000
TZNAME:CEST
TZOFFSETFROM:+0100
TZOFFSETTO:+0200
END:DAYLIGHT
END:VTIMEZONE
END:VCALENDAR
